BEGIN:VCALENDAR
VERSION:2.0
PRODID:-//Schützenrunde Kittenbach - ECPv6.15.15//NONSGML v1.0//EN
CALSCALE:GREGORIAN
METHOD:PUBLISH
X-ORIGINAL-URL:https://sr-kittenbach.at
X-WR-CALDESC:Veranstaltungen für Schützenrunde Kittenbach
REFRESH-INTERVAL;VALUE=DURATION:PT1H
X-Robots-Tag:noindex
X-PUBLISHED-TTL:PT1H
BEGIN:VTIMEZONE
TZID:Europe/Vienna
BEGIN:DAYLIGHT
TZOFFSETFROM:+0100
TZOFFSETTO:+0200
TZNAME:CEST
DTSTART:20200329T010000
END:DAYLIGHT
BEGIN:STANDARD
TZOFFSETFROM:+0200
TZOFFSETTO:+0100
TZNAME:CET
DTSTART:20201025T010000
END:STANDARD
BEGIN:DAYLIGHT
TZOFFSETFROM:+0100
TZOFFSETTO:+0200
TZNAME:CEST
DTSTART:20210328T010000
END:DAYLIGHT
BEGIN:STANDARD
TZOFFSETFROM:+0200
TZOFFSETTO:+0100
TZNAME:CET
DTSTART:20211031T010000
END:STANDARD
BEGIN:DAYLIGHT
TZOFFSETFROM:+0100
TZOFFSETTO:+0200
TZNAME:CEST
DTSTART:20220327T010000
END:DAYLIGHT
BEGIN:STANDARD
TZOFFSETFROM:+0200
TZOFFSETTO:+0100
TZNAME:CET
DTSTART:20221030T010000
END:STANDARD
END:VTIMEZONE
BEGIN:VEVENT
DTSTART;TZID=Europe/Vienna:20210626T170000
DTEND;TZID=Europe/Vienna:20210626T220000
DTSTAMP:20260419T212053
CREATED:20210619T052414Z
LAST-MODIFIED:20210619T052425Z
UID:4344-1624726800-1624744800@sr-kittenbach.at
SUMMARY:Landesmeisterschaft Esv- Fliesen Hermann Jahring gegen Esv-Wikotech Pichlingerhof Söding
DESCRIPTION:Landesmeisterschaft Esv- Fliesen Hermann Jahring gegen Esv-Wikotech Pichlingerhof Söding \nfindet am 26.Juni 2021 Beginn 17.00 Uhr \nin der Stocksporthalle Kittenbach statt.
URL:https://sr-kittenbach.at/event/landesmeisterschaft-esv-fliesen-hermann-jahring-gegen-esv-wikotech-pichlingerhof-soeding/
END:VEVENT
END:VCALENDAR