BEGIN:VCALENDAR
VERSION:2.0
PRODID:-//Schützenrunde Kittenbach - ECPv6.15.15//NONSGML v1.0//EN
CALSCALE:GREGORIAN
METHOD:PUBLISH
X-ORIGINAL-URL:https://sr-kittenbach.at
X-WR-CALDESC:Veranstaltungen für Schützenrunde Kittenbach
REFRESH-INTERVAL;VALUE=DURATION:PT1H
X-Robots-Tag:noindex
X-PUBLISHED-TTL:PT1H
BEGIN:VTIMEZONE
TZID:Europe/Vienna
BEGIN:DAYLIGHT
TZOFFSETFROM:+0100
TZOFFSETTO:+0200
TZNAME:CEST
DTSTART:20200329T010000
END:DAYLIGHT
BEGIN:STANDARD
TZOFFSETFROM:+0200
TZOFFSETTO:+0100
TZNAME:CET
DTSTART:20201025T010000
END:STANDARD
BEGIN:DAYLIGHT
TZOFFSETFROM:+0100
TZOFFSETTO:+0200
TZNAME:CEST
DTSTART:20210328T010000
END:DAYLIGHT
BEGIN:STANDARD
TZOFFSETFROM:+0200
TZOFFSETTO:+0100
TZNAME:CET
DTSTART:20211031T010000
END:STANDARD
BEGIN:DAYLIGHT
TZOFFSETFROM:+0100
TZOFFSETTO:+0200
TZNAME:CEST
DTSTART:20220327T010000
END:DAYLIGHT
BEGIN:STANDARD
TZOFFSETFROM:+0200
TZOFFSETTO:+0100
TZNAME:CET
DTSTART:20221030T010000
END:STANDARD
END:VTIMEZONE
BEGIN:VEVENT
DTSTART;TZID=Europe/Vienna:20210703T190000
DTEND;TZID=Europe/Vienna:20210703T220000
DTSTAMP:20260419T194756
CREATED:20210619T051559Z
LAST-MODIFIED:20210619T051559Z
UID:4339-1625338800-1625349600@sr-kittenbach.at
SUMMARY:Jahreshauptversammlung
DESCRIPTION:Die 19 Jahreshauptversammlung der Sr-Kittenbach \nfindet am 03.Juli 2021 Beginn 19.00 Uhr \nin der Stocksporthalle Kittenbach statt.
URL:https://sr-kittenbach.at/event/jahreshauptversammlung/
END:VEVENT
END:VCALENDAR