BEGIN:VCALENDAR
VERSION:2.0
PRODID:-//Schützenrunde Kittenbach - ECPv6.15.15//NONSGML v1.0//EN
CALSCALE:GREGORIAN
METHOD:PUBLISH
X-WR-CALNAME:Schützenrunde Kittenbach
X-ORIGINAL-URL:https://sr-kittenbach.at
X-WR-CALDESC:Veranstaltungen für Schützenrunde Kittenbach
REFRESH-INTERVAL;VALUE=DURATION:PT1H
X-Robots-Tag:noindex
X-PUBLISHED-TTL:PT1H
BEGIN:VTIMEZONE
TZID:Europe/Vienna
BEGIN:DAYLIGHT
TZOFFSETFROM:+0100
TZOFFSETTO:+0200
TZNAME:CEST
DTSTART:20200329T010000
END:DAYLIGHT
BEGIN:STANDARD
TZOFFSETFROM:+0200
TZOFFSETTO:+0100
TZNAME:CET
DTSTART:20201025T010000
END:STANDARD
BEGIN:DAYLIGHT
TZOFFSETFROM:+0100
TZOFFSETTO:+0200
TZNAME:CEST
DTSTART:20210328T010000
END:DAYLIGHT
BEGIN:STANDARD
TZOFFSETFROM:+0200
TZOFFSETTO:+0100
TZNAME:CET
DTSTART:20211031T010000
END:STANDARD
BEGIN:DAYLIGHT
TZOFFSETFROM:+0100
TZOFFSETTO:+0200
TZNAME:CEST
DTSTART:20220327T010000
END:DAYLIGHT
BEGIN:STANDARD
TZOFFSETFROM:+0200
TZOFFSETTO:+0100
TZNAME:CET
DTSTART:20221030T010000
END:STANDARD
END:VTIMEZONE
BEGIN:VEVENT
DTSTART;TZID=Europe/Vienna:20210904T070000
DTEND;TZID=Europe/Vienna:20210904T170000
DTSTAMP:20260419T162550
CREATED:20210821T061059Z
LAST-MODIFIED:20210821T061059Z
UID:4400-1630738800-1630774800@sr-kittenbach.at
SUMMARY:Bezirksmeisterschaft 2021
DESCRIPTION:Bezirksmeisterschaft 2021 in Oedt \nBeginn 07.00 Uhr \nTeilnehmende Mannschaft \nKittenbach 2
URL:https://sr-kittenbach.at/event/bezirksmeisterschaft-2021/
END:VEVENT
BEGIN:VEVENT
DTSTART;TZID=Europe/Vienna:20210904T073000
DTEND;TZID=Europe/Vienna:20210904T170000
DTSTAMP:20260419T162550
CREATED:20210827T080517Z
LAST-MODIFIED:20210827T080655Z
UID:4409-1630740600-1630774800@sr-kittenbach.at
SUMMARY:Landesmeisterschaft Ü 50
DESCRIPTION:http://sr-kittenbach.at/wp-content/uploads/2021/08/Senioren-U-50.pdf
URL:https://sr-kittenbach.at/event/landesmeisterschaft-ue-50/
END:VEVENT
END:VCALENDAR